BEGIN:VCALENDAR
VERSION:2.0
PRODID:-//Evora - ECPv6.0.0.1//NONSGML v1.0//EN
CALSCALE:GREGORIAN
METHOD:PUBLISH
X-WR-CALNAME:Evora
X-ORIGINAL-URL:https://www.evora.si
X-WR-CALDESC:Events for Evora
REFRESH-INTERVAL;VALUE=DURATION:PT1H
X-Robots-Tag:noindex
X-PUBLISHED-TTL:PT1H
BEGIN:VTIMEZONE
TZID:UTC
BEGIN:STANDARD
TZOFFSETFROM:+0000
TZOFFSETTO:+0000
TZNAME:UTC
DTSTART:20180101T000000
END:STANDARD
END:VTIMEZONE
BEGIN:VEVENT
DTSTART;TZID=UTC:20241213T120000
DTEND;TZID=UTC:20250114T160000
DTSTAMP:20260421T082329
CREATED:20170410T103454Z
LAST-MODIFIED:20170410T103454Z
UID:9110-1734091200-1736870400@www.evora.si
SUMMARY:Acting For 5th Grade
DESCRIPTION:Aliquam lorem ante\, dapibus in\, viverra quis\, feugiat a\, tellus. Phasellus viverra nulla ut metus varius laoreet. Quisque rutrum. Aenean imperdiet. Etiam ultricies nisi vel augue. Curabitur ullamcorper ultricies nisi. Nam eget dui. Etiam rhoncus. Maecenas tempus\, tellus eget condimentum rhoncus\, sem quam semper libero\, sit amet adipiscing sem neque sed ipsum. Nam quam nunc\, blandit vel\, luctus pulvinar\, hendrerit id\, lorem. Maecenas nec odio et ante tincidunt tempus. Donec vitae sapien ut libero venenatis faucibus. Nullam quis ante. Etiam sit amet orci eget eros faucibus tincidunt. Duis leo. Sed fringilla mauris sit amet nibh.
URL:https://www.evora.si/event/acting-for-5th-grade-2/
LOCATION:Kids\, 320 S Harrison St #5-H
CATEGORIES:Kids
ATTACH;FMTTYPE=image/jpeg:https://www.evora.si/wp-content/uploads/2017/03/kids-classes-event-2.jpg
END:VEVENT
BEGIN:VEVENT
DTSTART;TZID=UTC:20241211T090000
DTEND;TZID=UTC:20241221T103000
DTSTAMP:20260421T082329
CREATED:20170410T103427Z
LAST-MODIFIED:20170410T103427Z
UID:9109-1733907600-1734777000@www.evora.si
SUMMARY:Ballet for Kids
DESCRIPTION:Aliquam lorem ante\, dapibus in\, viverra quis\, feugiat a\, tellus. Phasellus viverra nulla ut metus varius laoreet. Quisque rutrum. Aenean imperdiet. Etiam ultricies nisi vel augue. Curabitur ullamcorper ultricies nisi. Nam eget dui. Etiam rhoncus. Maecenas tempus\, tellus eget condimentum rhoncus\, sem quam semper libero\, sit amet adipiscing sem neque sed ipsum. Nam quam nunc\, blandit vel\, luctus pulvinar\, hendrerit id\, lorem. Maecenas nec odio et ante tincidunt tempus. Donec vitae sapien ut libero venenatis faucibus. Nullam quis ante. Etiam sit amet orci eget eros faucibus tincidunt. Duis leo. Sed fringilla mauris sit amet nibh.
URL:https://www.evora.si/event/ballet-for-kids-2/
LOCATION:Kids\, 320 S Harrison St #5-H
CATEGORIES:Kids
ATTACH;FMTTYPE=image/jpeg:https://www.evora.si/wp-content/uploads/2017/03/kids-classes-event-1.jpg
END:VEVENT
BEGIN:VEVENT
DTSTART;TZID=UTC:20241205T180000
DTEND;TZID=UTC:20241227T233000
DTSTAMP:20260421T082329
CREATED:20170410T104438Z
LAST-MODIFIED:20170410T104438Z
UID:9125-1733421600-1735342200@www.evora.si
SUMMARY:Neon Dance Performance
DESCRIPTION:Aliquam lorem ante\, dapibus in\, viverra quis\, feugiat a\, tellus. Phasellus viverra nulla ut metus varius laoreet. Quisque rutrum. Aenean imperdiet. Etiam ultricies nisi vel augue. Curabitur ullamcorper ultricies nisi. Nam eget dui. Etiam rhoncus. Maecenas tempus\, tellus eget condimentum rhoncus\, sem quam semper libero\, sit amet adipiscing sem neque sed ipsum. Nam quam nunc\, blandit vel\, luctus pulvinar\, hendrerit id\, lorem. Maecenas nec odio et ante tincidunt tempus. Donec vitae sapien ut libero venenatis faucibus. Nullam quis ante. Etiam sit amet orci eget eros faucibus tincidunt. Duis leo. Sed fringilla mauris sit amet nibh.
URL:https://www.evora.si/event/neon-dance-performance-4/
LOCATION:Mix Dance\,  2777 Goethals Rd N
CATEGORIES:Mix Dance
ATTACH;FMTTYPE=image/jpeg:https://www.evora.si/wp-content/uploads/2017/03/mixdance-classes-event-3.jpg
END:VEVENT
BEGIN:VEVENT
DTSTART;TZID=UTC:20240813T100000
DTEND;TZID=UTC:20240816T190000
DTSTAMP:20260421T082329
CREATED:20170410T102333Z
LAST-MODIFIED:20170410T102333Z
UID:9102-1723543200-1723834800@www.evora.si
SUMMARY:Breakdance Class
DESCRIPTION:Aliquam lorem ante\, dapibus in\, viverra quis\, feugiat a\, tellus. Phasellus viverra nulla ut metus varius laoreet. Quisque rutrum. Aenean imperdiet. Etiam ultricies nisi vel augue. Curabitur ullamcorper ultricies nisi. Nam eget dui. Etiam rhoncus. Maecenas tempus\, tellus eget condimentum rhoncus\, sem quam semper libero\, sit amet adipiscing sem neque sed ipsum. Nam quam nunc\, blandit vel\, luctus pulvinar\, hendrerit id\, lorem. Maecenas nec odio et ante tincidunt tempus. Donec vitae sapien ut libero venenatis faucibus. Nullam quis ante. Etiam sit amet orci eget eros faucibus tincidunt. Duis leo. Sed fringilla mauris sit amet nibh.
URL:https://www.evora.si/event/breakdance-class-2/
LOCATION:HipHop\,  2777 Goethals Rd N
CATEGORIES:Hip Hop
ATTACH;FMTTYPE=image/jpeg:https://www.evora.si/wp-content/uploads/2017/03/hiphop-classes-event-1.jpg
END:VEVENT
BEGIN:VEVENT
DTSTART;TZID=UTC:20240613T100000
DTEND;TZID=UTC:20240623T170000
DTSTAMP:20260421T082329
CREATED:20170308T085110Z
LAST-MODIFIED:20170308T085110Z
UID:6319-1718272800-1719162000@www.evora.si
SUMMARY:Swan Lake Ballet
DESCRIPTION:Aliquam lorem ante\, dapibus in\, viverra quis\, feugiat a\, tellus. Phasellus viverra nulla ut metus varius laoreet. Quisque rutrum. Aenean imperdiet. Etiam ultricies nisi vel augue. Curabitur ullamcorper ultricies nisi. Nam eget dui. Etiam rhoncus. Maecenas tempus\, tellus eget condimentum rhoncus\, sem quam semper libero\, sit amet adipiscing sem neque sed ipsum. Nam quam nunc\, blandit vel\, luctus pulvinar\, hendrerit id\, lorem. Maecenas nec odio et ante tincidunt tempus. Donec vitae sapien ut libero venenatis faucibus. Nullam quis ante. Etiam sit amet orci eget eros faucibus tincidunt. Duis leo. Sed fringilla mauris sit amet nibh.
URL:https://www.evora.si/event/swan-lake-ballet/
LOCATION:Mix Dance\,  2777 Goethals Rd N
CATEGORIES:Mix Dance
ATTACH;FMTTYPE=image/jpeg:https://www.evora.si/wp-content/uploads/2017/03/mixdance-classes-event-1.jpg
END:VEVENT
BEGIN:VEVENT
DTSTART;TZID=UTC:20240511T120000
DTEND;TZID=UTC:20240522T180000
DTSTAMP:20260421T082329
CREATED:20170308T083401Z
LAST-MODIFIED:20170308T083401Z
UID:6305-1715428800-1716400800@www.evora.si
SUMMARY:Ballet Hispanico
DESCRIPTION:Aliquam lorem ante\, dapibus in\, viverra quis\, feugiat a\, tellus. Phasellus viverra nulla ut metus varius laoreet. Quisque rutrum. Aenean imperdiet. Etiam ultricies nisi vel augue. Curabitur ullamcorper ultricies nisi. Nam eget dui. Etiam rhoncus. Maecenas tempus\, tellus eget condimentum rhoncus\, sem quam semper libero\, sit amet adipiscing sem neque sed ipsum. Nam quam nunc\, blandit vel\, luctus pulvinar\, hendrerit id\, lorem. Maecenas nec odio et ante tincidunt tempus. Donec vitae sapien ut libero venenatis faucibus. Nullam quis ante. Etiam sit amet orci eget eros faucibus tincidunt. Duis leo. Sed fringilla mauris sit amet nibh.
URL:https://www.evora.si/event/ballet-hispanico/
LOCATION:Latino\, 651 Kapkowski Rd\, Elizabeth
CATEGORIES:Latino
ATTACH;FMTTYPE=image/jpeg:https://www.evora.si/wp-content/uploads/2017/03/latino-classes-event-1.jpg
END:VEVENT
BEGIN:VEVENT
DTSTART;TZID=UTC:20231020T170000
DTEND;TZID=UTC:20231031T233000
DTSTAMP:20260421T082329
CREATED:20170410T103709Z
LAST-MODIFIED:20170410T103709Z
UID:9118-1697821200-1698795000@www.evora.si
SUMMARY:Flamenco Class
DESCRIPTION:Aliquam lorem ante\, dapibus in\, viverra quis\, feugiat a\, tellus. Phasellus viverra nulla ut metus varius laoreet. Quisque rutrum. Aenean imperdiet. Etiam ultricies nisi vel augue. Curabitur ullamcorper ultricies nisi. Nam eget dui. Etiam rhoncus. Maecenas tempus\, tellus eget condimentum rhoncus\, sem quam semper libero\, sit amet adipiscing sem neque sed ipsum. Nam quam nunc\, blandit vel\, luctus pulvinar\, hendrerit id\, lorem. Maecenas nec odio et ante tincidunt tempus. Donec vitae sapien ut libero venenatis faucibus. Nullam quis ante. Etiam sit amet orci eget eros faucibus tincidunt. Duis leo. Sed fringilla mauris sit amet nibh.
URL:https://www.evora.si/event/flamenco-class-2/
LOCATION:Latino\, 651 Kapkowski Rd\, Elizabeth
CATEGORIES:Latino
ATTACH;FMTTYPE=image/jpeg:https://www.evora.si/wp-content/uploads/2017/03/latino-classes-event-3.jpg
END:VEVENT
BEGIN:VEVENT
DTSTART;TZID=UTC:20231013T163000
DTEND;TZID=UTC:20231023T233000
DTSTAMP:20260421T082329
CREATED:20170410T103702Z
LAST-MODIFIED:20170410T103702Z
UID:9117-1697214600-1698103800@www.evora.si
SUMMARY:Open Class
DESCRIPTION:Aliquam lorem ante\, dapibus in\, viverra quis\, feugiat a\, tellus. Phasellus viverra nulla ut metus varius laoreet. Quisque rutrum. Aenean imperdiet. Etiam ultricies nisi vel augue. Curabitur ullamcorper ultricies nisi. Nam eget dui. Etiam rhoncus. Maecenas tempus\, tellus eget condimentum rhoncus\, sem quam semper libero\, sit amet adipiscing sem neque sed ipsum. Nam quam nunc\, blandit vel\, luctus pulvinar\, hendrerit id\, lorem. Maecenas nec odio et ante tincidunt tempus. Donec vitae sapien ut libero venenatis faucibus. Nullam quis ante. Etiam sit amet orci eget eros faucibus tincidunt. Duis leo. Sed fringilla mauris sit amet nibh.
URL:https://www.evora.si/event/open-class-2/
LOCATION:Latino\, 651 Kapkowski Rd\, Elizabeth
CATEGORIES:Latino
ATTACH;FMTTYPE=image/jpeg:https://www.evora.si/wp-content/uploads/2017/03/latino-classes-event-2.jpg
END:VEVENT
BEGIN:VEVENT
DTSTART;TZID=UTC:20230818T100000
DTEND;TZID=UTC:20230829T170000
DTSTAMP:20260421T082329
CREATED:20170308T091147Z
LAST-MODIFIED:20170308T091147Z
UID:6348-1692352800-1693328400@www.evora.si
SUMMARY:Dance Performance
DESCRIPTION:Aliquam lorem ante\, dapibus in\, viverra quis\, feugiat a\, tellus. Phasellus viverra nulla ut metus varius laoreet. Quisque rutrum. Aenean imperdiet. Etiam ultricies nisi vel augue. Curabitur ullamcorper ultricies nisi. Nam eget dui. Etiam rhoncus. Maecenas tempus\, tellus eget condimentum rhoncus\, sem quam semper libero\, sit amet adipiscing sem neque sed ipsum. Nam quam nunc\, blandit vel\, luctus pulvinar\, hendrerit id\, lorem. Maecenas nec odio et ante tincidunt tempus. Donec vitae sapien ut libero venenatis faucibus. Nullam quis ante. Etiam sit amet orci eget eros faucibus tincidunt. Duis leo. Sed fringilla mauris sit amet nibh.
URL:https://www.evora.si/event/dance-performance/
LOCATION:Kids\, 320 S Harrison St #5-H
CATEGORIES:Kids
ATTACH;FMTTYPE=image/jpeg:https://www.evora.si/wp-content/uploads/2017/03/kids-classes-event-3.jpg
END:VEVENT
BEGIN:VEVENT
DTSTART;TZID=UTC:20230810T120000
DTEND;TZID=UTC:20230820T160000
DTSTAMP:20260421T082329
CREATED:20170308T090944Z
LAST-MODIFIED:20170308T090944Z
UID:6346-1691668800-1692547200@www.evora.si
SUMMARY:Acting For 5th Grade
DESCRIPTION:Aliquam lorem ante\, dapibus in\, viverra quis\, feugiat a\, tellus. Phasellus viverra nulla ut metus varius laoreet. Quisque rutrum. Aenean imperdiet. Etiam ultricies nisi vel augue. Curabitur ullamcorper ultricies nisi. Nam eget dui. Etiam rhoncus. Maecenas tempus\, tellus eget condimentum rhoncus\, sem quam semper libero\, sit amet adipiscing sem neque sed ipsum. Nam quam nunc\, blandit vel\, luctus pulvinar\, hendrerit id\, lorem. Maecenas nec odio et ante tincidunt tempus. Donec vitae sapien ut libero venenatis faucibus. Nullam quis ante. Etiam sit amet orci eget eros faucibus tincidunt. Duis leo. Sed fringilla mauris sit amet nibh.
URL:https://www.evora.si/event/acting-for-5th-grade/
LOCATION:Kids\, 320 S Harrison St #5-H
CATEGORIES:Kids
ATTACH;FMTTYPE=image/jpeg:https://www.evora.si/wp-content/uploads/2017/03/kids-classes-event-2.jpg
END:VEVENT
BEGIN:VEVENT
DTSTART;TZID=UTC:20230810T090000
DTEND;TZID=UTC:20230820T103000
DTSTAMP:20260421T082329
CREATED:20170308T090625Z
LAST-MODIFIED:20170308T090625Z
UID:6336-1691658000-1692527400@www.evora.si
SUMMARY:Ballet for Kids
DESCRIPTION:Aliquam lorem ante\, dapibus in\, viverra quis\, feugiat a\, tellus. Phasellus viverra nulla ut metus varius laoreet. Quisque rutrum. Aenean imperdiet. Etiam ultricies nisi vel augue. Curabitur ullamcorper ultricies nisi. Nam eget dui. Etiam rhoncus. Maecenas tempus\, tellus eget condimentum rhoncus\, sem quam semper libero\, sit amet adipiscing sem neque sed ipsum. Nam quam nunc\, blandit vel\, luctus pulvinar\, hendrerit id\, lorem. Maecenas nec odio et ante tincidunt tempus. Donec vitae sapien ut libero venenatis faucibus. Nullam quis ante. Etiam sit amet orci eget eros faucibus tincidunt. Duis leo. Sed fringilla mauris sit amet nibh.
URL:https://www.evora.si/event/ballet-for-kids/
LOCATION:Kids\, 320 S Harrison St #5-H
CATEGORIES:Kids
ATTACH;FMTTYPE=image/jpeg:https://www.evora.si/wp-content/uploads/2017/03/kids-classes-event-1.jpg
END:VEVENT
BEGIN:VEVENT
DTSTART;TZID=UTC:20230706T100000
DTEND;TZID=UTC:20230718T163000
DTSTAMP:20260421T082329
CREATED:20170410T102356Z
LAST-MODIFIED:20170410T102356Z
UID:9104-1688637600-1689697800@www.evora.si
SUMMARY:Neon Dance Performance
DESCRIPTION:Aliquam lorem ante\, dapibus in\, viverra quis\, feugiat a\, tellus. Phasellus viverra nulla ut metus varius laoreet. Quisque rutrum. Aenean imperdiet. Etiam ultricies nisi vel augue. Curabitur ullamcorper ultricies nisi. Nam eget dui. Etiam rhoncus. Maecenas tempus\, tellus eget condimentum rhoncus\, sem quam semper libero\, sit amet adipiscing sem neque sed ipsum. Nam quam nunc\, blandit vel\, luctus pulvinar\, hendrerit id\, lorem. Maecenas nec odio et ante tincidunt tempus. Donec vitae sapien ut libero venenatis faucibus. Nullam quis ante. Etiam sit amet orci eget eros faucibus tincidunt. Duis leo. Sed fringilla mauris sit amet nibh.
URL:https://www.evora.si/event/neon-dance-performance-3/
LOCATION:HipHop\,  2777 Goethals Rd N
CATEGORIES:Hip Hop
ATTACH;FMTTYPE=image/jpeg:https://www.evora.si/wp-content/uploads/2017/03/hiphop-classes-event-3.jpg
END:VEVENT
BEGIN:VEVENT
DTSTART;TZID=UTC:20230511T170000
DTEND;TZID=UTC:20230522T233000
DTSTAMP:20260421T082329
CREATED:20170308T083926Z
LAST-MODIFIED:20170308T083926Z
UID:6314-1683824400-1684798200@www.evora.si
SUMMARY:Flamenco Class
DESCRIPTION:Aliquam lorem ante\, dapibus in\, viverra quis\, feugiat a\, tellus. Phasellus viverra nulla ut metus varius laoreet. Quisque rutrum. Aenean imperdiet. Etiam ultricies nisi vel augue. Curabitur ullamcorper ultricies nisi. Nam eget dui. Etiam rhoncus. Maecenas tempus\, tellus eget condimentum rhoncus\, sem quam semper libero\, sit amet adipiscing sem neque sed ipsum. Nam quam nunc\, blandit vel\, luctus pulvinar\, hendrerit id\, lorem. Maecenas nec odio et ante tincidunt tempus. Donec vitae sapien ut libero venenatis faucibus. Nullam quis ante. Etiam sit amet orci eget eros faucibus tincidunt. Duis leo. Sed fringilla mauris sit amet nibh.
URL:https://www.evora.si/event/flamenco-class/
LOCATION:Latino\, 651 Kapkowski Rd\, Elizabeth
CATEGORIES:Latino
ATTACH;FMTTYPE=image/jpeg:https://www.evora.si/wp-content/uploads/2017/03/latino-classes-event-3.jpg
END:VEVENT
BEGIN:VEVENT
DTSTART;TZID=UTC:20230414T100000
DTEND;TZID=UTC:20230428T163000
DTSTAMP:20260421T082329
CREATED:20170308T082114Z
LAST-MODIFIED:20170308T082114Z
UID:6296-1681466400-1682699400@www.evora.si
SUMMARY:Neon Dance Performance
DESCRIPTION:Aliquam lorem ante\, dapibus in\, viverra quis\, feugiat a\, tellus. Phasellus viverra nulla ut metus varius laoreet. Quisque rutrum. Aenean imperdiet. Etiam ultricies nisi vel augue. Curabitur ullamcorper ultricies nisi. Nam eget dui. Etiam rhoncus. Maecenas tempus\, tellus eget condimentum rhoncus\, sem quam semper libero\, sit amet adipiscing sem neque sed ipsum. Nam quam nunc\, blandit vel\, luctus pulvinar\, hendrerit id\, lorem. Maecenas nec odio et ante tincidunt tempus. Donec vitae sapien ut libero venenatis faucibus. Nullam quis ante. Etiam sit amet orci eget eros faucibus tincidunt. Duis leo. Sed fringilla mauris sit amet nibh.
URL:https://www.evora.si/event/neon-dance-performance/
LOCATION:HipHop\,  2777 Goethals Rd N
CATEGORIES:Hip Hop
ATTACH;FMTTYPE=image/jpeg:https://www.evora.si/wp-content/uploads/2017/03/hiphop-classes-event-3.jpg
END:VEVENT
BEGIN:VEVENT
DTSTART;TZID=UTC:20230412T100000
DTEND;TZID=UTC:20230420T190000
DTSTAMP:20260421T082329
CREATED:20170308T075358Z
LAST-MODIFIED:20170308T075358Z
UID:6269-1681293600-1682017200@www.evora.si
SUMMARY:Breakdance Class
DESCRIPTION:Aliquam lorem ante\, dapibus in\, viverra quis\, feugiat a\, tellus. Phasellus viverra nulla ut metus varius laoreet. Quisque rutrum. Aenean imperdiet. Etiam ultricies nisi vel augue. Curabitur ullamcorper ultricies nisi. Nam eget dui. Etiam rhoncus. Maecenas tempus\, tellus eget condimentum rhoncus\, sem quam semper libero\, sit amet adipiscing sem neque sed ipsum. Nam quam nunc\, blandit vel\, luctus pulvinar\, hendrerit id\, lorem. Maecenas nec odio et ante tincidunt tempus. Donec vitae sapien ut libero venenatis faucibus. Nullam quis ante. Etiam sit amet orci eget eros faucibus tincidunt. Duis leo. Sed fringilla mauris sit amet nibh.
URL:https://www.evora.si/event/breakdance-class/
LOCATION:HipHop\,  2777 Goethals Rd N
CATEGORIES:Hip Hop
ATTACH;FMTTYPE=image/jpeg:https://www.evora.si/wp-content/uploads/2017/03/hiphop-classes-event-1.jpg
END:VEVENT
BEGIN:VEVENT
DTSTART;TZID=UTC:20221014T120000
DTEND;TZID=UTC:20221025T180000
DTSTAMP:20260421T082329
CREATED:20170410T103655Z
LAST-MODIFIED:20170410T103655Z
UID:9116-1665748800-1666720800@www.evora.si
SUMMARY:Ballet Hispanico
DESCRIPTION:Aliquam lorem ante\, dapibus in\, viverra quis\, feugiat a\, tellus. Phasellus viverra nulla ut metus varius laoreet. Quisque rutrum. Aenean imperdiet. Etiam ultricies nisi vel augue. Curabitur ullamcorper ultricies nisi. Nam eget dui. Etiam rhoncus. Maecenas tempus\, tellus eget condimentum rhoncus\, sem quam semper libero\, sit amet adipiscing sem neque sed ipsum. Nam quam nunc\, blandit vel\, luctus pulvinar\, hendrerit id\, lorem. Maecenas nec odio et ante tincidunt tempus. Donec vitae sapien ut libero venenatis faucibus. Nullam quis ante. Etiam sit amet orci eget eros faucibus tincidunt. Duis leo. Sed fringilla mauris sit amet nibh.
URL:https://www.evora.si/event/ballet-hispanico-2/
LOCATION:Latino\, 651 Kapkowski Rd\, Elizabeth
CATEGORIES:Latino
ATTACH;FMTTYPE=image/jpeg:https://www.evora.si/wp-content/uploads/2017/03/latino-classes-event-1.jpg
END:VEVENT
BEGIN:VEVENT
DTSTART;TZID=UTC:20220811T180000
DTEND;TZID=UTC:20220817T220000
DTSTAMP:20260421T082329
CREATED:20170410T102347Z
LAST-MODIFIED:20170410T102347Z
UID:9103-1660240800-1660773600@www.evora.si
SUMMARY:Music Class
DESCRIPTION:Aliquam lorem ante\, dapibus in\, viverra quis\, feugiat a\, tellus. Phasellus viverra nulla ut metus varius laoreet. Quisque rutrum. Aenean imperdiet. Etiam ultricies nisi vel augue. Curabitur ullamcorper ultricies nisi. Nam eget dui. Etiam rhoncus. Maecenas tempus\, tellus eget condimentum rhoncus\, sem quam semper libero\, sit amet adipiscing sem neque sed ipsum. Nam quam nunc\, blandit vel\, luctus pulvinar\, hendrerit id\, lorem. Maecenas nec odio et ante tincidunt tempus. Donec vitae sapien ut libero venenatis faucibus. Nullam quis ante. Etiam sit amet orci eget eros faucibus tincidunt. Duis leo. Sed fringilla mauris sit amet nibh.
URL:https://www.evora.si/event/music-class-2/
LOCATION:HipHop\,  2777 Goethals Rd N
CATEGORIES:Hip Hop
ATTACH;FMTTYPE=image/jpeg:https://www.evora.si/wp-content/uploads/2017/03/hiphop-classes-event-2.jpg
END:VEVENT
BEGIN:VEVENT
DTSTART;TZID=UTC:20220617T180000
DTEND;TZID=UTC:20220627T233000
DTSTAMP:20260421T082329
CREATED:20170308T085634Z
LAST-MODIFIED:20170308T085634Z
UID:6331-1655488800-1656372600@www.evora.si
SUMMARY:Neon Dance Performance
DESCRIPTION:Aliquam lorem ante\, dapibus in\, viverra quis\, feugiat a\, tellus. Phasellus viverra nulla ut metus varius laoreet. Quisque rutrum. Aenean imperdiet. Etiam ultricies nisi vel augue. Curabitur ullamcorper ultricies nisi. Nam eget dui. Etiam rhoncus. Maecenas tempus\, tellus eget condimentum rhoncus\, sem quam semper libero\, sit amet adipiscing sem neque sed ipsum. Nam quam nunc\, blandit vel\, luctus pulvinar\, hendrerit id\, lorem. Maecenas nec odio et ante tincidunt tempus. Donec vitae sapien ut libero venenatis faucibus. Nullam quis ante. Etiam sit amet orci eget eros faucibus tincidunt. Duis leo. Sed fringilla mauris sit amet nibh.
URL:https://www.evora.si/event/neon-dance-performance-2/
LOCATION:Mix Dance\,  2777 Goethals Rd N
CATEGORIES:Mix Dance
ATTACH;FMTTYPE=image/jpeg:https://www.evora.si/wp-content/uploads/2017/03/mixdance-classes-event-3.jpg
END:VEVENT
BEGIN:VEVENT
DTSTART;TZID=UTC:20210408T100000
DTEND;TZID=UTC:20210420T170000
DTSTAMP:20260421T082329
CREATED:20170410T104421Z
LAST-MODIFIED:20170410T104421Z
UID:9123-1617876000-1618938000@www.evora.si
SUMMARY:Swan Lake Ballet
DESCRIPTION:Aliquam lorem ante\, dapibus in\, viverra quis\, feugiat a\, tellus. Phasellus viverra nulla ut metus varius laoreet. Quisque rutrum. Aenean imperdiet. Etiam ultricies nisi vel augue. Curabitur ullamcorper ultricies nisi. Nam eget dui. Etiam rhoncus. Maecenas tempus\, tellus eget condimentum rhoncus\, sem quam semper libero\, sit amet adipiscing sem neque sed ipsum. Nam quam nunc\, blandit vel\, luctus pulvinar\, hendrerit id\, lorem. Maecenas nec odio et ante tincidunt tempus. Donec vitae sapien ut libero venenatis faucibus. Nullam quis ante. Etiam sit amet orci eget eros faucibus tincidunt. Duis leo. Sed fringilla mauris sit amet nibh.
URL:https://www.evora.si/event/swan-lake-ballet-2/
LOCATION:Mix Dance\,  2777 Goethals Rd N
CATEGORIES:Mix Dance
ATTACH;FMTTYPE=image/jpeg:https://www.evora.si/wp-content/uploads/2017/03/mixdance-classes-event-1.jpg
END:VEVENT
BEGIN:VEVENT
DTSTART;TZID=UTC:20200603T000000
DTEND;TZID=UTC:20200613T210000
DTSTAMP:20260421T082329
CREATED:20170410T104431Z
LAST-MODIFIED:20170410T104431Z
UID:9124-1591142400-1592082000@www.evora.si
SUMMARY:Open Freestyle Class
DESCRIPTION:Aliquam lorem ante\, dapibus in\, viverra quis\, feugiat a\, tellus. Phasellus viverra nulla ut metus varius laoreet. Quisque rutrum. Aenean imperdiet. Etiam ultricies nisi vel augue. Curabitur ullamcorper ultricies nisi. Nam eget dui. Etiam rhoncus. Maecenas tempus\, tellus eget condimentum rhoncus\, sem quam semper libero\, sit amet adipiscing sem neque sed ipsum. Nam quam nunc\, blandit vel\, luctus pulvinar\, hendrerit id\, lorem. Maecenas nec odio et ante tincidunt tempus. Donec vitae sapien ut libero venenatis faucibus. Nullam quis ante. Etiam sit amet orci eget eros faucibus tincidunt. Duis leo. Sed fringilla mauris sit amet nibh.
URL:https://www.evora.si/event/open-freestyle-class-2/
LOCATION:Mix Dance\,  2777 Goethals Rd N
CATEGORIES:Mix Dance
ATTACH;FMTTYPE=image/jpeg:https://www.evora.si/wp-content/uploads/2017/03/mixdance-classes-event-2.jpg
END:VEVENT
BEGIN:VEVENT
DTSTART;TZID=UTC:20180613T000000
DTEND;TZID=UTC:20180629T210000
DTSTAMP:20260421T082329
CREATED:20170308T085420Z
LAST-MODIFIED:20170308T085420Z
UID:6327-1528848000-1530306000@www.evora.si
SUMMARY:Open Freestyle Class
DESCRIPTION:Aliquam lorem ante\, dapibus in\, viverra quis\, feugiat a\, tellus. Phasellus viverra nulla ut metus varius laoreet. Quisque rutrum. Aenean imperdiet. Etiam ultricies nisi vel augue. Curabitur ullamcorper ultricies nisi. Nam eget dui. Etiam rhoncus. Maecenas tempus\, tellus eget condimentum rhoncus\, sem quam semper libero\, sit amet adipiscing sem neque sed ipsum. Nam quam nunc\, blandit vel\, luctus pulvinar\, hendrerit id\, lorem. Maecenas nec odio et ante tincidunt tempus. Donec vitae sapien ut libero venenatis faucibus. Nullam quis ante. Etiam sit amet orci eget eros faucibus tincidunt. Duis leo. Sed fringilla mauris sit amet nibh.
URL:https://www.evora.si/event/open-freestyle-class/
LOCATION:Mix Dance\,  2777 Goethals Rd N
CATEGORIES:Mix Dance
ATTACH;FMTTYPE=image/jpeg:https://www.evora.si/wp-content/uploads/2017/03/mixdance-classes-event-2.jpg
END:VEVENT
END:VCALENDAR